BEGIN:VCALENDAR
VERSION:2.0
METHOD:PUBLISH
X-WR-CALNAME:app_dev@sghuettenfeld.de
X-WR-TIMEZONE:Europe/Berlin
BEGIN:VEVENT
DTSTART;VALUE=DATE:20250821
DTEND;VALUE=DATE:20250822
RRULE:FREQ=YEARLY
DTSTAMP:20250722T111531Z
UID:50617363616C53
CLASS:PUBLIC
CREATED:19000101T120000Z
DESCRIPTION:Geburtstag von Pascal Slager
LAST-MODIFIED:20250722T111531Z
LOCATION:
SEQUENCE:1
STATUS:CONFIRMED
SUMMARY:Geburtstag von Pascal Slager
TRANSP:OPAQUE
END:VEVENT
END:VCALENDAR